BEGIN:VCALENDAR
PRODID:-//Microsoft Corporation//Outlook 15.0 MIMEDIR//EN
VERSION:2.0
METHOD:PUBLISH
X-MS-OLK-FORCEINSPECTOROPEN:TRUE
BEGIN:VTIMEZONE
TZID:Eastern Standard Time
BEGIN:STANDARD
DTSTART:16011104T020000
RRULE:FREQ=YEARLY;BYDAY=1SU;BYMONTH=11
TZOFFSETFROM:-0400
TZOFFSETTO:-0500
END:STANDARD
BEGIN:DAYLIGHT
DTSTART:16010311T020000
RRULE:FREQ=YEARLY;BYDAY=2SU;BYMONTH=3
TZOFFSETFROM:-0500
TZOFFSETTO:-0400
END:DAYLIGHT
END:VTIMEZONE
BEGIN:VEVENT
CLASS:PUBLIC
CREATED:20161121T162422Z
DESCRIPTION:http://www.mikeholt.com/live\n
DTEND;TZID="Eastern Standard Time":20170424T050000
DTSTAMP:20161121T162422Z
DTSTART;TZID="Eastern Standard Time":20170422T090000
LAST-MODIFIED:20161121T162422Z
PRIORITY:5
SEQUENCE:0
SUMMARY;LANGUAGE=en-us:Mike Holt's live stream - Understanding the NEC Vol 
	2
TRANSP:OPAQUE
UID:040000008200E00074C5B7101A82E00800000000102EC4CEE943D201000000000000000
	0100000003AAC94FFABEE244C93FA93831F31C3BC
X-ALT-DESC;FMTTYPE=text/html:<!DOCTYPE HTML PUBLIC "-//W3C//DTD HTML 3.2//E
	N">\n<HTML>\n<HEAD>\n<META NAME="Generator" CONTENT="MS Exchange Server ve
	rsion rmj.rmm.rup.rpr">\n<TITLE></TITLE>\n</HEAD>\n<BODY>\n<!-- Converted 
	from text/rtf format -->\n\n<P DIR=LTR><SPAN LANG="en-us"></SPAN><SPAN LAN
	G="en-us"><FONT FACE="Constantia"><A HREF="http://www.mikeholt.com/live">h
	ttp://www.mikeholt.com/live</A></FONT></SPAN><SPAN LANG="en-us"></SPAN><SP
	AN LANG="en-us"></SPAN></P>\n\n</BODY>\n</HTML>
X-MICROSOFT-CDO-BUSYSTATUS:BUSY
X-MICROSOFT-CDO-IMPORTANCE:1
X-MICROSOFT-DISALLOW-COUNTER:FALSE
X-MS-OLK-CONFTYPE:0
BEGIN:VALARM
TRIGGER:-PT15M
ACTION:DISPLAY
DESCRIPTION:Reminder
END:VALARM
END:VEVENT
END:VCALENDAR
